BEGIN:VCALENDAR
VERSION:2.0
PRODID:-//Grow Great Falls Montana - ECPv6.15.20//NONSGML v1.0//EN
CALSCALE:GREGORIAN
METHOD:PUBLISH
X-ORIGINAL-URL:https://growgreatfallsmontana.org
X-WR-CALDESC:Events for Grow Great Falls Montana
REFRESH-INTERVAL;VALUE=DURATION:PT1H
X-Robots-Tag:noindex
X-PUBLISHED-TTL:PT1H
BEGIN:VTIMEZONE
TZID:UTC
BEGIN:STANDARD
TZOFFSETFROM:+0000
TZOFFSETTO:+0000
TZNAME:UTC
DTSTART:20230101T000000
END:STANDARD
END:VTIMEZONE
BEGIN:VEVENT
DTSTART;TZID=UTC:20240424T100000
DTEND;TZID=UTC:20240424T130000
DTSTAMP:20260425T095912
CREATED:20240413T044126Z
LAST-MODIFIED:20260319T084407Z
UID:3168-1713952800-1713963600@growgreatfallsmontana.org
SUMMARY:Malmstrom Industry Day
DESCRIPTION:Join Great Falls APEX to engage with the 341st Contract Squadron Construction flight from Malmstrom Air Force Base to discover valuable insights on conducting business with the Air Force followed by an interactive question and answer Session. \nThis is an in-person event only! \nFor more information\, or to register\, CLICK HERE.\n  \nHave questions about how your business can do business with the government\, or need help preparing for this event? \nContact Shannon Clancy:   SClancy@GrowGreatFalls.org or 1-406-590-1184
URL:https://growgreatfallsmontana.org/event/malmstrom-industry-day/
CATEGORIES:Homepage,Trainings
END:VEVENT
END:VCALENDAR