BEGIN:VCALENDAR
VERSION:2.0
PRODID:-//Grow Great Falls Montana - ECPv6.15.20//NONSGML v1.0//EN
CALSCALE:GREGORIAN
METHOD:PUBLISH
X-WR-CALNAME:Grow Great Falls Montana
X-ORIGINAL-URL:https://growgreatfallsmontana.org
X-WR-CALDESC:Events for Grow Great Falls Montana
REFRESH-INTERVAL;VALUE=DURATION:PT1H
X-Robots-Tag:noindex
X-PUBLISHED-TTL:PT1H
BEGIN:VTIMEZONE
TZID:UTC
BEGIN:STANDARD
TZOFFSETFROM:+0000
TZOFFSETTO:+0000
TZNAME:UTC
DTSTART:20230101T000000
END:STANDARD
END:VTIMEZONE
BEGIN:VEVENT
DTSTART;TZID=UTC:20240605T120000
DTEND;TZID=UTC:20240605T130000
DTSTAMP:20260423T191024
CREATED:20240604T224045Z
LAST-MODIFIED:20260319T084407Z
UID:3397-1717588800-1717592400@growgreatfallsmontana.org
SUMMARY:DOD SkillBridge Program: New Partner Application Process Information Session
DESCRIPTION:DOD SkillBridge is an opportunity to access and leverage the world’s most highly trained and motivated workforce at no cost. Service members participating in DOD SkillBridge programs continue receiving their military compensation and benefits\, while industry partners provide the civilian training and work experience. \nThis one-hour information session is intended to outline the intent and purpose of the DOD SkillBridge program and the application requirements for interested prospective partners. \nTo learn more or register\, CLICK HERE.
URL:https://growgreatfallsmontana.org/event/dod-skillbridge-program-new-partner-application-process-information-session/
CATEGORIES:Trainings
END:VEVENT
END:VCALENDAR