BEGIN:VCALENDAR
VERSION:2.0
PRODID:-//Grow Great Falls Montana - ECPv6.15.20//NONSGML v1.0//EN
CALSCALE:GREGORIAN
METHOD:PUBLISH
X-WR-CALNAME:Grow Great Falls Montana
X-ORIGINAL-URL:https://growgreatfallsmontana.org
X-WR-CALDESC:Events for Grow Great Falls Montana
REFRESH-INTERVAL;VALUE=DURATION:PT1H
X-Robots-Tag:noindex
X-PUBLISHED-TTL:PT1H
BEGIN:VTIMEZONE
TZID:UTC
BEGIN:STANDARD
TZOFFSETFROM:+0000
TZOFFSETTO:+0000
TZNAME:UTC
DTSTART:20230101T000000
END:STANDARD
END:VTIMEZONE
BEGIN:VEVENT
DTSTART;TZID=UTC:20240613T130000
DTEND;TZID=UTC:20240613T140000
DTSTAMP:20260425T054027
CREATED:20240525T011227Z
LAST-MODIFIED:20260319T084407Z
UID:3377-1718283600-1718287200@growgreatfallsmontana.org
SUMMARY:Understanding Your Entity Structure to Be Successful in Government Contracting Webinar
DESCRIPTION:Join Great Falls APEX for an informative session where we will be joined by Rich Gannon\, SBDC Great Falls Regional Business Advisor who will guide us through the unique traits and benefits of each entity structure. Knowing your entity structure is essential in government contracting. Regardless of whether you’re a sole proprietorship\, corporation\, partnership\, or LLC\, your structure can impact SBA certification applications and operations within regulatory boundaries. Why should you attend? Whether you’re a new or seasoned contractor navigating the complexities of government contracting\, this is an opportunity to enhance your understanding and discover strategic tactics that will help with your success in the local\, state\, and federal marketplace. \nTo register\, or learn more\, visit the registration page HERE.
URL:https://growgreatfallsmontana.org/event/understanding-your-entity-structure-to-be-successful-in-government-contracting-webinar/
CATEGORIES:Trainings
END:VEVENT
END:VCALENDAR