BEGIN:VCALENDAR
VERSION:2.0
PRODID:-//Grow Great Falls Montana - ECPv6.15.20//NONSGML v1.0//EN
CALSCALE:GREGORIAN
METHOD:PUBLISH
X-WR-CALNAME:Grow Great Falls Montana
X-ORIGINAL-URL:https://growgreatfallsmontana.org
X-WR-CALDESC:Events for Grow Great Falls Montana
REFRESH-INTERVAL;VALUE=DURATION:PT1H
X-Robots-Tag:noindex
X-PUBLISHED-TTL:PT1H
BEGIN:VTIMEZONE
TZID:UTC
BEGIN:STANDARD
TZOFFSETFROM:+0000
TZOFFSETTO:+0000
TZNAME:UTC
DTSTART:20240101T000000
END:STANDARD
END:VTIMEZONE
BEGIN:VTIMEZONE
TZID:America/Denver
BEGIN:DAYLIGHT
TZOFFSETFROM:-0700
TZOFFSETTO:-0600
TZNAME:MDT
DTSTART:20240310T090000
END:DAYLIGHT
BEGIN:STANDARD
TZOFFSETFROM:-0600
TZOFFSETTO:-0700
TZNAME:MST
DTSTART:20241103T080000
END:STANDARD
BEGIN:DAYLIGHT
TZOFFSETFROM:-0700
TZOFFSETTO:-0600
TZNAME:MDT
DTSTART:20250309T090000
END:DAYLIGHT
BEGIN:STANDARD
TZOFFSETFROM:-0600
TZOFFSETTO:-0700
TZNAME:MST
DTSTART:20251102T080000
END:STANDARD
BEGIN:DAYLIGHT
TZOFFSETFROM:-0700
TZOFFSETTO:-0600
TZNAME:MDT
DTSTART:20260308T090000
END:DAYLIGHT
BEGIN:STANDARD
TZOFFSETFROM:-0600
TZOFFSETTO:-0700
TZNAME:MST
DTSTART:20261101T080000
END:STANDARD
END:VTIMEZONE
BEGIN:VEVENT
DTSTART;TZID=UTC:20251113T080000
DTEND;TZID=UTC:20251113T093000
DTSTAMP:20260421T092643
CREATED:20250515T215154Z
LAST-MODIFIED:20260319T084404Z
UID:5258-1763020800-1763026200@growgreatfallsmontana.org
SUMMARY:GFDA Board & Council Meeting
DESCRIPTION:GFDA Board & Council Agenda 11-13-25 GFDA Board & Council Agenda 11-13-25 \nClick HERE for Minutes \n  \nGreat Falls College: Heritage Hall\n2100 16th Ave South; Great Falls\, MT 59405 \nOR \nJoin Zoom Meeting: \nhttps://zoom.us/j/94014829623?pwd=aXJFRVlZOXJld2N1dU9uN1gxL1JpQT09 \nMeeting ID: 940 1482 9623\nPasscode: 216683 \nOne tap mobile\n+12532158782\,\,94014829623#\,\,\,\,*216683# US (Tacoma)\n+13462487799\,\,94014829623#\,\,\,\,*216683# US (Houston) \nDial by your location\n+1 253 215 8782 US (Tacoma)\n+1 346 248 7799 US (Houston)\n+1 669 900 9128 US (San Jose)\n+1 301 715 8592 US (Washington DC)\n+1 312 626 6799 US (Chicago)\n+1 646 558 8656 US (New York) \nFind your local number: https://zoom.us/u/adzGlXYsfN
URL:https://growgreatfallsmontana.org/event/gfda-board-council-meeting-15/
CATEGORIES:GFDA Meetings
END:VEVENT
BEGIN:VEVENT
DTSTART;TZID=America/Denver:20251113T082500
DTEND;TZID=America/Denver:20251113T123000
DTSTAMP:20260421T092643
CREATED:20251106T062843Z
LAST-MODIFIED:20260319T084403Z
UID:5706-1763022300-1763037000@growgreatfallsmontana.org
SUMMARY:Montana World Trade Center Regulated Export Training
DESCRIPTION:Montana World Trade Center Regulated Export/Export Control Training with Justin Cook \nMy company has Department of Defense contracts –what does that mean for my firm for Controlled Unclassified Information (CUI)? Does my product need a license for export? What’s considered dual use? Is my conversation with a prospective foreign buyer considered a deemed export? What actually constitutes controlled unclassified information? And what are my cybersecurity and data security obligations when dealing with the federal government and export licensing? \nTake a deep dive with MWTC Tech Export Team member Justin Cook about the dos and do nots of export licensing and compliance. Learn about export control policies\, regulations\, and compliance programs before you engage in export. If you’re already engaged\, make sure your entire team understands the basics. \n\nThursday\, 11/13\n8:25 AM – 12:30 PM\nVirtual\n$99–Morning session only\n$159–Morning session + 1:1 afternoon consultation\n\nCLICK HERE to register!
URL:https://growgreatfallsmontana.org/event/montana-world-trade-center-regulated-export-export-control-training-with-justin-cook/
CATEGORIES:Trainings
END:VEVENT
END:VCALENDAR