BEGIN:VCALENDAR
VERSION:2.0
PRODID:-//Grow Great Falls Montana - ECPv6.15.20//NONSGML v1.0//EN
CALSCALE:GREGORIAN
METHOD:PUBLISH
X-WR-CALNAME:Grow Great Falls Montana
X-ORIGINAL-URL:https://growgreatfallsmontana.org
X-WR-CALDESC:Events for Grow Great Falls Montana
REFRESH-INTERVAL;VALUE=DURATION:PT1H
X-Robots-Tag:noindex
X-PUBLISHED-TTL:PT1H
BEGIN:VTIMEZONE
TZID:America/Denver
BEGIN:DAYLIGHT
TZOFFSETFROM:-0700
TZOFFSETTO:-0600
TZNAME:MDT
DTSTART:20240310T090000
END:DAYLIGHT
BEGIN:STANDARD
TZOFFSETFROM:-0600
TZOFFSETTO:-0700
TZNAME:MST
DTSTART:20241103T080000
END:STANDARD
BEGIN:DAYLIGHT
TZOFFSETFROM:-0700
TZOFFSETTO:-0600
TZNAME:MDT
DTSTART:20250309T090000
END:DAYLIGHT
BEGIN:STANDARD
TZOFFSETFROM:-0600
TZOFFSETTO:-0700
TZNAME:MST
DTSTART:20251102T080000
END:STANDARD
BEGIN:DAYLIGHT
TZOFFSETFROM:-0700
TZOFFSETTO:-0600
TZNAME:MDT
DTSTART:20260308T090000
END:DAYLIGHT
BEGIN:STANDARD
TZOFFSETFROM:-0600
TZOFFSETTO:-0700
TZNAME:MST
DTSTART:20261101T080000
END:STANDARD
END:VTIMEZONE
BEGIN:VEVENT
DTSTART;TZID=America/Denver:20251120T170000
DTEND;TZID=America/Denver:20251120T200000
DTSTAMP:20260421T092648
CREATED:20251106T062349Z
LAST-MODIFIED:20260319T084403Z
UID:5703-1763658000-1763668800@growgreatfallsmontana.org
SUMMARY:Downtown Great Falls: Ladies’ Night Out
DESCRIPTION:Downtown Great Falls will celebrate Ladies’ Night Out on Thursday\, November 20\, from 5:00–8:00 PM\, with participating restaurants extending the fun through dinner and cocktails until 10:00 PM.  \nThis signature downtown event invites residents and visitors to enjoy an evening of shopping\, dining\, and community spirit—no tickets required. Retailers and restaurants will offer extended hours\, exclusive promotions\, and festive experiences that highlight the vibrant downtown scene and kick off the holiday season in style.  \nFull event details and business participation information are available here. 
URL:https://growgreatfallsmontana.org/event/downtown-great-falls-ladies-night-out/
CATEGORIES:Other Event
END:VEVENT
END:VCALENDAR