BEGIN:VCALENDAR
VERSION:2.0
PRODID:-//Grow Great Falls Montana - ECPv6.15.20//NONSGML v1.0//EN
CALSCALE:GREGORIAN
METHOD:PUBLISH
X-ORIGINAL-URL:https://growgreatfallsmontana.org
X-WR-CALDESC:Events for Grow Great Falls Montana
REFRESH-INTERVAL;VALUE=DURATION:PT1H
X-Robots-Tag:noindex
X-PUBLISHED-TTL:PT1H
BEGIN:VTIMEZONE
TZID:America/Denver
BEGIN:DAYLIGHT
TZOFFSETFROM:-0700
TZOFFSETTO:-0600
TZNAME:MDT
DTSTART:20250309T090000
END:DAYLIGHT
BEGIN:STANDARD
TZOFFSETFROM:-0600
TZOFFSETTO:-0700
TZNAME:MST
DTSTART:20251102T080000
END:STANDARD
BEGIN:DAYLIGHT
TZOFFSETFROM:-0700
TZOFFSETTO:-0600
TZNAME:MDT
DTSTART:20260308T090000
END:DAYLIGHT
BEGIN:STANDARD
TZOFFSETFROM:-0600
TZOFFSETTO:-0700
TZNAME:MST
DTSTART:20261101T080000
END:STANDARD
BEGIN:DAYLIGHT
TZOFFSETFROM:-0700
TZOFFSETTO:-0600
TZNAME:MDT
DTSTART:20270314T090000
END:DAYLIGHT
BEGIN:STANDARD
TZOFFSETFROM:-0600
TZOFFSETTO:-0700
TZNAME:MST
DTSTART:20271107T080000
END:STANDARD
END:VTIMEZONE
BEGIN:VEVENT
DTSTART;TZID=America/Denver:20260218T080000
DTEND;TZID=America/Denver:20260218T093000
DTSTAMP:20260423T055923
CREATED:20250517T032636Z
LAST-MODIFIED:20260319T084403Z
UID:5847-1771401600-1771407000@growgreatfallsmontana.org
SUMMARY:GFDA Executive Committee Meeting
DESCRIPTION:Click HERE for Minutes\n\n \n\nAE2S CONFERENCE ROOM\nWest Bank Landing\, Portage Bldg (behind The Peak)\n405 3rd St NW\, Suite 205; Great Falls\, MT 59404\n\nOR\n\nJoin Zoom Meeting:\nhttps://zoom.us/j/97551413941?pwd=V2ZLeHUyRUx6TU5aNExHVSs5RWx3Zz09\n\nMeeting ID: 975 5141 3941\nPasscode: 986063\n\nOne tap mobile\n+16699009128\,\,97551413941#\,\,\,\,*986063# US (San Jose)\n+12532158782\,\,97551413941#\,\,\,\,*986063# US (Tacoma)\n\nDial by your location\n+1 669 900 9128 US (San Jose)\n+1 253 215 8782 US (Tacoma)\n+1 346 248 7799 US (Houston)\n+1 646 558 8656 US (New York)\n+1 301 715 8592 US (Washington DC)\n+1 312 626 6799 US (Chicago)\n\nFind your local number: https://zoom.us/u/acHlCWKIWF
URL:https://growgreatfallsmontana.org/event/gfda-executive-committee-meeting-24/
CATEGORIES:GFDA Meetings
END:VEVENT
END:VCALENDAR