BEGIN:VCALENDAR
VERSION:2.0
PRODID:-//Grow Great Falls Montana - ECPv6.15.20//NONSGML v1.0//EN
CALSCALE:GREGORIAN
METHOD:PUBLISH
X-WR-CALNAME:Grow Great Falls Montana
X-ORIGINAL-URL:https://growgreatfallsmontana.org
X-WR-CALDESC:Events for Grow Great Falls Montana
REFRESH-INTERVAL;VALUE=DURATION:PT1H
X-Robots-Tag:noindex
X-PUBLISHED-TTL:PT1H
BEGIN:VTIMEZONE
TZID:America/Denver
BEGIN:DAYLIGHT
TZOFFSETFROM:-0700
TZOFFSETTO:-0600
TZNAME:MDT
DTSTART:20250309T090000
END:DAYLIGHT
BEGIN:STANDARD
TZOFFSETFROM:-0600
TZOFFSETTO:-0700
TZNAME:MST
DTSTART:20251102T080000
END:STANDARD
BEGIN:DAYLIGHT
TZOFFSETFROM:-0700
TZOFFSETTO:-0600
TZNAME:MDT
DTSTART:20260308T090000
END:DAYLIGHT
BEGIN:STANDARD
TZOFFSETFROM:-0600
TZOFFSETTO:-0700
TZNAME:MST
DTSTART:20261101T080000
END:STANDARD
BEGIN:DAYLIGHT
TZOFFSETFROM:-0700
TZOFFSETTO:-0600
TZNAME:MDT
DTSTART:20270314T090000
END:DAYLIGHT
BEGIN:STANDARD
TZOFFSETFROM:-0600
TZOFFSETTO:-0700
TZNAME:MST
DTSTART:20271107T080000
END:STANDARD
END:VTIMEZONE
BEGIN:VEVENT
DTSTART;TZID=America/Denver:20260219T083000
DTEND;TZID=America/Denver:20260219T093000
DTSTAMP:20260425T054218
CREATED:20251209T064521Z
LAST-MODIFIED:20260319T084403Z
UID:5871-1771489800-1771493400@growgreatfallsmontana.org
SUMMARY:Boost Your Business: Pricing Strategy (Is Your Price Right)?
DESCRIPTION:Level up your business skills and stay ahead of the curve with Boost Your Business\, a FREE in-person training series designed for entrepreneurs\, small business owners\, and professionals across all industries. Each month\, we dive into a new topic—marketing\, leadership\, finance\, operations\, technology\, and more—to give you practical tools you can use right away.\n\n \n\nFebruary: Pricing Strategy (Is Your Price Right)?\n\nDo you know if you are charging the right amount for your products or services? We will cover breakeven analysis\, considerations when setting prices\, market fluctuations\, adjustments for seasonal considerations and understanding cost basis.\n\nPlease bring “real” examples of your products/services if you would like on-the-spot counseling for your pricing strategy. We will do our best to accommodate as many examples as possible.\n\n \n\nCLICK HERE to Register!\n\n \n\nBrought to you by Great Falls Development Alliance and the Great Falls Area Chamber of Commerce\n\nClick Here for all 2026 Boost Your Business Workshops.\n\n\n\n 
URL:https://growgreatfallsmontana.org/event/boost-your-business-pricing-strategy-is-your-price-right/
CATEGORIES:Trainings
END:VEVENT
END:VCALENDAR