BEGIN:VCALENDAR
VERSION:2.0
PRODID:-//Grow Great Falls Montana - ECPv6.15.20//NONSGML v1.0//EN
CALSCALE:GREGORIAN
METHOD:PUBLISH
X-WR-CALNAME:Grow Great Falls Montana
X-ORIGINAL-URL:https://growgreatfallsmontana.org
X-WR-CALDESC:Events for Grow Great Falls Montana
REFRESH-INTERVAL;VALUE=DURATION:PT1H
X-Robots-Tag:noindex
X-PUBLISHED-TTL:PT1H
BEGIN:VTIMEZONE
TZID:UTC
BEGIN:STANDARD
TZOFFSETFROM:+0000
TZOFFSETTO:+0000
TZNAME:UTC
DTSTART:20250101T000000
END:STANDARD
END:VTIMEZONE
BEGIN:VEVENT
DTSTART;TZID=UTC:20260302T080000
DTEND;TZID=UTC:20260302T170000
DTSTAMP:20260420T164413
CREATED:20260302T235829Z
LAST-MODIFIED:20260303T003441Z
UID:7349-1772438400-1772470800@growgreatfallsmontana.org
SUMMARY:Build Smarter\, Pay Less: The Power of C-PACE - Small Business Webinar
DESCRIPTION:Join us for our monthly Small Business Webinar featuring Seth Lutter of the Montana Facility Finance Authority. As administrator of Montana’s statewide C-PACE program\, Seth will explain how businesses can access long-term\, low-cost financing for energy efficiency\, renewable energy\, water efficiency\, and building improvements. Discover how C-PACE could support your next project and get your questions answered live. 
URL:https://growgreatfallsmontana.org/event/build-smarter-pay-less-the-power-of-c-pace-small-business-webinar/
LOCATION:Virtual-Online Only
CATEGORIES:Trainings
ORGANIZER;CN="Rich Gannon":MAILTO:RGannon@GrowGreatFalls.org
END:VEVENT
END:VCALENDAR