BEGIN:VCALENDAR
VERSION:2.0
PRODID:-//Grow Great Falls Montana - ECPv6.15.20//NONSGML v1.0//EN
CALSCALE:GREGORIAN
METHOD:PUBLISH
X-WR-CALNAME:Grow Great Falls Montana
X-ORIGINAL-URL:https://growgreatfallsmontana.org
X-WR-CALDESC:Events for Grow Great Falls Montana
REFRESH-INTERVAL;VALUE=DURATION:PT1H
X-Robots-Tag:noindex
X-PUBLISHED-TTL:PT1H
BEGIN:VTIMEZONE
TZID:UTC
BEGIN:STANDARD
TZOFFSETFROM:+0000
TZOFFSETTO:+0000
TZNAME:UTC
DTSTART:20250101T000000
END:STANDARD
END:VTIMEZONE
BEGIN:VEVENT
DTSTART;TZID=UTC:20260312T153000
DTEND;TZID=UTC:20260312T170000
DTSTAMP:20260420T225349
CREATED:20260228T063414Z
LAST-MODIFIED:20260228T065349Z
UID:7336-1773329400-1773334800@growgreatfallsmontana.org
SUMMARY:Opportunity Zone Task Force Meeting
DESCRIPTION:Registration is open for our first Opportunity Zone Task Force meeting on March 12 at 3:30 PM at the Station District in Great Falls.  \n\n\n\nThis task force will work to develop plans to secure designation of Opportunity Zones in our trade area and strategies to attract private investment in the Zones. Open to the public. Contact Jake Clark for more information.
URL:https://growgreatfallsmontana.org/event/opportunity-zone-taskforce-meeting/
LOCATION:The Station District\, 119 River Drive N\, Great Falls\, Montana\, 59401
CATEGORIES:GFDA Meetings
END:VEVENT
END:VCALENDAR