BEGIN:VCALENDAR
VERSION:2.0
PRODID:-//Grow Great Falls Montana - ECPv6.15.20//NONSGML v1.0//EN
CALSCALE:GREGORIAN
METHOD:PUBLISH
X-WR-CALNAME:Grow Great Falls Montana
X-ORIGINAL-URL:https://growgreatfallsmontana.org
X-WR-CALDESC:Events for Grow Great Falls Montana
REFRESH-INTERVAL;VALUE=DURATION:PT1H
X-Robots-Tag:noindex
X-PUBLISHED-TTL:PT1H
BEGIN:VTIMEZONE
TZID:America/Denver
BEGIN:DAYLIGHT
TZOFFSETFROM:-0700
TZOFFSETTO:-0600
TZNAME:MDT
DTSTART:20250309T090000
END:DAYLIGHT
BEGIN:STANDARD
TZOFFSETFROM:-0600
TZOFFSETTO:-0700
TZNAME:MST
DTSTART:20251102T080000
END:STANDARD
BEGIN:DAYLIGHT
TZOFFSETFROM:-0700
TZOFFSETTO:-0600
TZNAME:MDT
DTSTART:20260308T090000
END:DAYLIGHT
BEGIN:STANDARD
TZOFFSETFROM:-0600
TZOFFSETTO:-0700
TZNAME:MST
DTSTART:20261101T080000
END:STANDARD
BEGIN:DAYLIGHT
TZOFFSETFROM:-0700
TZOFFSETTO:-0600
TZNAME:MDT
DTSTART:20270314T090000
END:DAYLIGHT
BEGIN:STANDARD
TZOFFSETFROM:-0600
TZOFFSETTO:-0700
TZNAME:MST
DTSTART:20271107T080000
END:STANDARD
END:VTIMEZONE
BEGIN:VTIMEZONE
TZID:UTC
BEGIN:STANDARD
TZOFFSETFROM:+0000
TZOFFSETTO:+0000
TZNAME:UTC
DTSTART:20250101T000000
END:STANDARD
END:VTIMEZONE
BEGIN:VEVENT
DTSTART;TZID=America/Denver:20260318T080000
DTEND;TZID=America/Denver:20260318T093000
DTSTAMP:20260420T225359
CREATED:20250517T032834Z
LAST-MODIFIED:20260319T084323Z
UID:5848-1773820800-1773826200@growgreatfallsmontana.org
SUMMARY:GFDA Executive Committee Meeting
DESCRIPTION:GFDA Exec Agenda 3-18-26Click HERE for Minutes \nAE2S CONFERENCE ROOMWest Bank Landing\, Portage Bldg (behind The Peak)405 3rd St NW\, Suite 205; Great Falls\, MT 59404 \nOR \nJoin Zoom Meeting:https://zoom.us/j/97551413941?pwd=V2ZLeHUyRUx6TU5aNExHVSs5RWx3Zz09 \nMeeting ID: 975 5141 3941Passcode: 986063 \nOne tap mobile+16699009128\,\,97551413941#\,\,\,\,*986063# US (San Jose)+12532158782\,\,97551413941#\,\,\,\,*986063# US (Tacoma) \nDial by your location+1 669 900 9128 US (San Jose)+1 253 215 8782 US (Tacoma)+1 346 248 7799 US (Houston)+1 646 558 8656 US (New York)+1 301 715 8592 US (Washington DC)+1 312 626 6799 US (Chicago) \nFind your local number: https://zoom.us/u/acHlCWKIWF
URL:https://growgreatfallsmontana.org/event/gfda-executive-committee-meeting-25/
LOCATION:AE2S Conference Room\, 405 3rd St NW\, Suite 205\, Great Falls\, MT\, 59404\, United States
CATEGORIES:GFDA Meetings
END:VEVENT
BEGIN:VEVENT
DTSTART;TZID=UTC:20260318T113000
DTEND;TZID=UTC:20260318T130000
DTSTAMP:20260420T225359
CREATED:20260226T012201Z
LAST-MODIFIED:20260226T012311Z
UID:7210-1773833400-1773838800@growgreatfallsmontana.org
SUMMARY:What Happens After SAM?
DESCRIPTION:Unlock New Business Opportunities!Please join the Montana APEX Accelerator for a strategic VIRTUAL training on how YOU can sell your company’s products/services to federal and state agencies.Who Should Attend?Any business in any industry that is interested in developing a focused market strategy for the government segment. It is not a requirement to already be registered in SAM or eMACS to attend the training. However\, we will not be going over the registration process in this training.  \n\n\n\n\n\n\n\n\n\n\n\n\n\nEvent Contact:
URL:https://growgreatfallsmontana.org/event/what-happens-after-sam-2/
LOCATION:Virtual-Online Only
CATEGORIES:APEX Accelerator Event,Trainings
ATTACH;FMTTYPE=image/png:https://growgreatfallsmontana.org/wp-content/uploads/2023/12/MT-APEX-Accelerator-Logo-transparent-e1724199194887.png
END:VEVENT
END:VCALENDAR