BEGIN:VCALENDAR
VERSION:2.0
PRODID:-//Grow Great Falls Montana - ECPv6.15.20//NONSGML v1.0//EN
CALSCALE:GREGORIAN
METHOD:PUBLISH
X-ORIGINAL-URL:https://growgreatfallsmontana.org
X-WR-CALDESC:Events for Grow Great Falls Montana
REFRESH-INTERVAL;VALUE=DURATION:PT1H
X-Robots-Tag:noindex
X-PUBLISHED-TTL:PT1H
BEGIN:VTIMEZONE
TZID:America/Denver
BEGIN:DAYLIGHT
TZOFFSETFROM:-0700
TZOFFSETTO:-0600
TZNAME:MDT
DTSTART:20250309T090000
END:DAYLIGHT
BEGIN:STANDARD
TZOFFSETFROM:-0600
TZOFFSETTO:-0700
TZNAME:MST
DTSTART:20251102T080000
END:STANDARD
BEGIN:DAYLIGHT
TZOFFSETFROM:-0700
TZOFFSETTO:-0600
TZNAME:MDT
DTSTART:20260308T090000
END:DAYLIGHT
BEGIN:STANDARD
TZOFFSETFROM:-0600
TZOFFSETTO:-0700
TZNAME:MST
DTSTART:20261101T080000
END:STANDARD
BEGIN:DAYLIGHT
TZOFFSETFROM:-0700
TZOFFSETTO:-0600
TZNAME:MDT
DTSTART:20270314T090000
END:DAYLIGHT
BEGIN:STANDARD
TZOFFSETFROM:-0600
TZOFFSETTO:-0700
TZNAME:MST
DTSTART:20271107T080000
END:STANDARD
END:VTIMEZONE
BEGIN:VEVENT
DTSTART;TZID=America/Denver:20260319T083000
DTEND;TZID=America/Denver:20260319T093000
DTSTAMP:20260421T001523
CREATED:20251209T065133Z
LAST-MODIFIED:20260324T230841Z
UID:5872-1773909000-1773912600@growgreatfallsmontana.org
SUMMARY:Boost Your Business: Building a Storybrand
DESCRIPTION:Level up your business skills and stay ahead of the curve with Boost Your Business\, a FREE in-person training series designed for entrepreneurs\, small business owners\, and professionals across all industries. Each month\, we dive into a new topic—marketing\, leadership\, finance\, operations\, technology\, and more—to give you practical tools you can use right away. \nMarch: Building a Storybrand \n\nEvery business has a story…who you are\, how you started\, what your vision is\, how you provide services\, who you serve and more. If you don’t create your story\, someone will create it for you. Join us to learn how to create your own storybrand\, then use it to create messaging and maximize your marketing strategy. \nCLICK HERE to Register! \nBrought to you by Great Falls Development Alliance and the Great Falls Area Chamber of CommerceCLICK HERE for all 2026 Boost Your Business Workshops.
URL:https://growgreatfallsmontana.org/event/boost-your-business-building-a-storybrand/
LOCATION:Great Falls Association of Realtors\, 401 13th Avenue S\, Great Falls\, MT\, 59405\, United States
CATEGORIES:Trainings
END:VEVENT
END:VCALENDAR