BEGIN:VCALENDAR
VERSION:2.0
PRODID:-//Grow Great Falls Montana - ECPv6.15.20//NONSGML v1.0//EN
CALSCALE:GREGORIAN
METHOD:PUBLISH
X-WR-CALNAME:Grow Great Falls Montana
X-ORIGINAL-URL:https://growgreatfallsmontana.org
X-WR-CALDESC:Events for Grow Great Falls Montana
REFRESH-INTERVAL;VALUE=DURATION:PT1H
X-Robots-Tag:noindex
X-PUBLISHED-TTL:PT1H
BEGIN:VTIMEZONE
TZID:America/Denver
BEGIN:DAYLIGHT
TZOFFSETFROM:-0700
TZOFFSETTO:-0600
TZNAME:MDT
DTSTART:20250309T090000
END:DAYLIGHT
BEGIN:STANDARD
TZOFFSETFROM:-0600
TZOFFSETTO:-0700
TZNAME:MST
DTSTART:20251102T080000
END:STANDARD
BEGIN:DAYLIGHT
TZOFFSETFROM:-0700
TZOFFSETTO:-0600
TZNAME:MDT
DTSTART:20260308T090000
END:DAYLIGHT
BEGIN:STANDARD
TZOFFSETFROM:-0600
TZOFFSETTO:-0700
TZNAME:MST
DTSTART:20261101T080000
END:STANDARD
BEGIN:DAYLIGHT
TZOFFSETFROM:-0700
TZOFFSETTO:-0600
TZNAME:MDT
DTSTART:20270314T090000
END:DAYLIGHT
BEGIN:STANDARD
TZOFFSETFROM:-0600
TZOFFSETTO:-0700
TZNAME:MST
DTSTART:20271107T080000
END:STANDARD
END:VTIMEZONE
BEGIN:VEVENT
DTSTART;TZID=America/Denver:20260326T110000
DTEND;TZID=America/Denver:20260326T120000
DTSTAMP:20260420T220645
CREATED:20260324T093432Z
LAST-MODIFIED:20260324T093738Z
UID:7690-1774522800-1774526400@growgreatfallsmontana.org
SUMMARY:CMMC Made Manageable: From Assessment to Certification for SAME Big Sky Post
DESCRIPTION:CMMC Made Manageable: From Assessment to Certification for SAME Big Sky Post\nThe Department of Defense has made one thing clear: Cyber Maturity Model Certification (CMMC) is here\, and it will impact contractors of all sizes.\nThis virtual session\, hosted by the Society of American Military Engineers (SAME) Big Sky Post at Malmstrom Air Force Base features Damon Hacker\, President of ArcherHall and a CMMC Registered Practitioner\, who will break down what your business actually needs to know without the jargon or confusion.\nDrawing from real assessments and the latest requirements\, this session will cover:\n  *   How CMMC works and who it applies to\n  *   Key differences between Levels 1–3\n  *   What it takes to achieve and maintain compliance\n  *   Prime and subcontractor flowdown responsibilities\n  *   Common mistakes businesses make—and how to avoid them\nNo matter what size your business is\, if you handle Federal Contract Information (FCI) or Controlled Unclassified Information (CUI)\, CMMC applies to you.\nYou’ll leave with a clear\, actionable roadmap to help your business prepare\, get certified\, and stay compliant.\nRegister here: https://archerhall.zoom.us/webinar/register/WN_WoiwrZafQrWKpTvTq6J8nA#/registration\n·     Thursday\, March\, 2026\n·     11:00 AM (MST)\n·     Virtual\n·     Free
URL:https://growgreatfallsmontana.org/event/cmmc-made-manageable-from-assessment-to-certification-for-same-big-sky-post/
LOCATION:Virtual
END:VEVENT
END:VCALENDAR