BEGIN:VCALENDAR
VERSION:2.0
PRODID:-//Grow Great Falls Montana - ECPv6.15.20//NONSGML v1.0//EN
CALSCALE:GREGORIAN
METHOD:PUBLISH
X-ORIGINAL-URL:https://growgreatfallsmontana.org
X-WR-CALDESC:Events for Grow Great Falls Montana
REFRESH-INTERVAL;VALUE=DURATION:PT1H
X-Robots-Tag:noindex
X-PUBLISHED-TTL:PT1H
BEGIN:VTIMEZONE
TZID:UTC
BEGIN:STANDARD
TZOFFSETFROM:+0000
TZOFFSETTO:+0000
TZNAME:UTC
DTSTART:20230101T000000
END:STANDARD
END:VTIMEZONE
BEGIN:VEVENT
DTSTART;TZID=UTC:20241218T113000
DTEND;TZID=UTC:20241218T130000
DTSTAMP:20260424T145209
CREATED:20241206T074644Z
LAST-MODIFIED:20260319T084405Z
UID:4696-1734521400-1734526800@growgreatfallsmontana.org
SUMMARY:Take Action! Move Beyond SAM! (Virtual Training)
DESCRIPTION:To Register CLICK HERE! \nPlease join the Montana APEX for a high-level VIRTUAL training on how the federal government and State of Montana purchases products and services. \nTopics include:\n– Federal and State of MT purchasing thresholds\n– Conducting market research\n– Federal purchasing vehicles (methods)\n– Where to find opportunities and how to get automatic notices\n– Marketing your business to government agencies\n– Tips on finding subcontracting opportunities\n– Q & A session \nWho should attend? Any business in any industry that is interested in developing a focused market strategy for the government segment. It is not a requirement to already be registered in SAM or eMACS to attend the training. However\, we will not be going over the registration process in this training.
URL:https://growgreatfallsmontana.org/event/take-action-move-beyond-sam-virtual-training/
LOCATION:Montana
CATEGORIES:APEX Accelerator Event,Homepage,Trainings
ATTACH;FMTTYPE=image/png:https://growgreatfallsmontana.org/wp-content/uploads/2023/12/MT-APEX-Accelerator-Logo-transparent-e1724199194887.png
END:VEVENT
END:VCALENDAR