BEGIN:VCALENDAR
VERSION:2.0
PRODID:-//Grow Great Falls Montana - ECPv6.15.20//NONSGML v1.0//EN
CALSCALE:GREGORIAN
METHOD:PUBLISH
X-WR-CALNAME:Grow Great Falls Montana
X-ORIGINAL-URL:https://growgreatfallsmontana.org
X-WR-CALDESC:Events for Grow Great Falls Montana
REFRESH-INTERVAL;VALUE=DURATION:PT1H
X-Robots-Tag:noindex
X-PUBLISHED-TTL:PT1H
BEGIN:VTIMEZONE
TZID:UTC
BEGIN:STANDARD
TZOFFSETFROM:+0000
TZOFFSETTO:+0000
TZNAME:UTC
DTSTART:20240101T000000
END:STANDARD
END:VTIMEZONE
BEGIN:VEVENT
DTSTART;TZID=UTC:20250206T130000
DTEND;TZID=UTC:20250206T140000
DTSTAMP:20260424T120210
CREATED:20250121T031214Z
LAST-MODIFIED:20260319T084405Z
UID:4935-1738846800-1738850400@growgreatfallsmontana.org
SUMMARY:Strategic Teaming Alliance Roundtable (STAR)
DESCRIPTION:Join Montana APEX Accelerator and Northrop Grumman for the first-quarter update of the Strategic Teaming Alliance Roundtable (STAR) series. Representatives from Northrop Grumman will share valuable tips and proven strategies to help businesses across all industries on building successful partnerships with Northrop Grumman\, their subcontractors\, and first-tier primes. This is a series of events\, and new panelists will provide unique insights at each roundtable! \nTo learn more or register\, CLICK HERE! \n 
URL:https://growgreatfallsmontana.org/event/strategic-teaming-alliance-roundtable-s-t-a-r/
LOCATION:Montana
CATEGORIES:APEX Accelerator Event,Trainings
ATTACH;FMTTYPE=image/png:https://growgreatfallsmontana.org/wp-content/uploads/2023/12/MT-APEX-Accelerator-Logo-transparent-e1724199194887.png
END:VEVENT
END:VCALENDAR