BEGIN:VCALENDAR
VERSION:2.0
PRODID:-//Grow Great Falls Montana - ECPv6.15.20//NONSGML v1.0//EN
CALSCALE:GREGORIAN
METHOD:PUBLISH
X-WR-CALNAME:Grow Great Falls Montana
X-ORIGINAL-URL:https://growgreatfallsmontana.org
X-WR-CALDESC:Events for Grow Great Falls Montana
REFRESH-INTERVAL;VALUE=DURATION:PT1H
X-Robots-Tag:noindex
X-PUBLISHED-TTL:PT1H
BEGIN:VTIMEZONE
TZID:UTC
BEGIN:STANDARD
TZOFFSETFROM:+0000
TZOFFSETTO:+0000
TZNAME:UTC
DTSTART:20240101T000000
END:STANDARD
END:VTIMEZONE
BEGIN:VEVENT
DTSTART;TZID=UTC:20250813T080000
DTEND;TZID=UTC:20250813T170000
DTSTAMP:20260423T145155
CREATED:20250404T071402Z
LAST-MODIFIED:20260319T084404Z
UID:5111-1755072000-1755104400@growgreatfallsmontana.org
SUMMARY:Montana APEX GovMatch 2025
DESCRIPTION:Montana APEX Invites You to Join Us for the Matchmaking Event of the Year!\nThis in-person premier matchmaking event is where businesses meet with government agencies to build relationships and explore opportunities to secure contracts. This event Is designed to facilitate introductions and connect agencies with quality leads while fostering impactful partnerships that benefit communities and drive economic growth.
URL:https://growgreatfallsmontana.org/event/montana-apex-govmatch-2025/
LOCATION:Montana
CATEGORIES:APEX Accelerator Event
ATTACH;FMTTYPE=image/png:https://growgreatfallsmontana.org/wp-content/uploads/2025/04/Wordpress-GFDA-Calendar.png
END:VEVENT
END:VCALENDAR