BEGIN:VCALENDAR
VERSION:2.0
PRODID:-//Grow Great Falls Montana - ECPv6.15.20//NONSGML v1.0//EN
CALSCALE:GREGORIAN
METHOD:PUBLISH
X-ORIGINAL-URL:https://growgreatfallsmontana.org
X-WR-CALDESC:Events for Grow Great Falls Montana
REFRESH-INTERVAL;VALUE=DURATION:PT1H
X-Robots-Tag:noindex
X-PUBLISHED-TTL:PT1H
BEGIN:VTIMEZONE
TZID:America/Denver
BEGIN:DAYLIGHT
TZOFFSETFROM:-0700
TZOFFSETTO:-0600
TZNAME:MDT
DTSTART:20250309T090000
END:DAYLIGHT
BEGIN:STANDARD
TZOFFSETFROM:-0600
TZOFFSETTO:-0700
TZNAME:MST
DTSTART:20251102T080000
END:STANDARD
BEGIN:DAYLIGHT
TZOFFSETFROM:-0700
TZOFFSETTO:-0600
TZNAME:MDT
DTSTART:20260308T090000
END:DAYLIGHT
BEGIN:STANDARD
TZOFFSETFROM:-0600
TZOFFSETTO:-0700
TZNAME:MST
DTSTART:20261101T080000
END:STANDARD
BEGIN:DAYLIGHT
TZOFFSETFROM:-0700
TZOFFSETTO:-0600
TZNAME:MDT
DTSTART:20270314T090000
END:DAYLIGHT
BEGIN:STANDARD
TZOFFSETFROM:-0600
TZOFFSETTO:-0700
TZNAME:MST
DTSTART:20271107T080000
END:STANDARD
END:VTIMEZONE
BEGIN:VTIMEZONE
TZID:UTC
BEGIN:STANDARD
TZOFFSETFROM:+0000
TZOFFSETTO:+0000
TZNAME:UTC
DTSTART:20250101T000000
END:STANDARD
END:VTIMEZONE
BEGIN:VEVENT
DTSTART;TZID=America/Denver:20260108T110000
DTEND;TZID=America/Denver:20260108T120000
DTSTAMP:20260422T040820
CREATED:20251209T224200Z
LAST-MODIFIED:20260319T084403Z
UID:5879-1767870000-1767873600@growgreatfallsmontana.org
SUMMARY:Understanding Foreign Ownership\, Control\, or Influence (FOCI) in Federal Contracting
DESCRIPTION:Join Montana APEX Accelerator for a high-level overview of Foreign Ownership\, Control\, or Influence (FOCI). Gain a clear understanding of how it can impact your ability to compete for and maintain federal contracts. \nThis session will demystify the concept\, explain compliance requirements\, and outline practical steps to identify and mitigate potential FOCI risks. Whether your business is currently contracting with the government or exploring new contract opportunities\, this overview will help you strengthen your readiness and protect your eligibility in the federal marketplace. \nREGISTER HERE!
URL:https://growgreatfallsmontana.org/event/5803/
LOCATION:Montana
CATEGORIES:APEX Accelerator Event,Trainings
ATTACH;FMTTYPE=image/png:https://growgreatfallsmontana.org/wp-content/uploads/2023/08/MT-APEX-Accelerator-Logo-transparent-e1711569955978.png
END:VEVENT
BEGIN:VEVENT
DTSTART;TZID=UTC:20260121T080000
DTEND;TZID=UTC:20260121T170000
DTSTAMP:20260422T040820
CREATED:20251209T225101Z
LAST-MODIFIED:20260319T084403Z
UID:5881-1768982400-1769014800@growgreatfallsmontana.org
SUMMARY:What Happens After SAM!
DESCRIPTION:Unlock New Business Opportunities!\n\nPlease join the Montana APEX Accelerator for a strategic VIRTUAL training on how YOU can sell your company’s products and services to federal and state agencies.\n\n \n\nWho Should Attend?\n\nAny business in any industry that is interested in developing a focused market strategy for the government segment. It is not a requirement to already be registered in SAM or eMACS to attend the training. However\, we will not be going over the registration process in this training. Register here: https://mtapex.ecenterdirect.com/events/41671\n\n 	Wednesday\, January 21\, 2026\n 	11:30 AM (MDT)\n 	Virtual\n 	Free\n\n 
URL:https://growgreatfallsmontana.org/event/what-happens-after-sam/
LOCATION:Montana
CATEGORIES:APEX Accelerator Event,Trainings
ATTACH;FMTTYPE=image/png:https://growgreatfallsmontana.org/wp-content/uploads/2023/12/MT-APEX-Accelerator-Logo-transparent-e1724199194887.png
END:VEVENT
BEGIN:VEVENT
DTSTART;TZID=America/Denver:20260128T110000
DTEND;TZID=America/Denver:20260128T120000
DTSTAMP:20260422T040820
CREATED:20251209T224537Z
LAST-MODIFIED:20260319T084403Z
UID:5880-1769598000-1769601600@growgreatfallsmontana.org
SUMMARY:Understanding Foreign Ownership\, Control\, or Influence (FOCI) in Federal Contracting
DESCRIPTION:Join Montana APEX Accelerator for a high-level overview of Foreign Ownership\, Control\, or Influence (FOCI). Gain a clear understanding of how it can impact your ability to compete for and maintain federal contracts. \nThis session will demystify the concept\, explain compliance requirements\, and outline practical steps to identify and mitigate potential FOCI risks. Whether your business is currently contracting with the government or exploring new contract opportunities\, this overview will help you strengthen your readiness and protect your eligibility in the federal marketplace. \nREGISTER HERE!
URL:https://growgreatfallsmontana.org/event/understanding-foreign-ownership-control-or-influence-foci-in-federal-contracting-2/
LOCATION:Montana
CATEGORIES:APEX Accelerator Event,Trainings
ATTACH;FMTTYPE=image/png:https://growgreatfallsmontana.org/wp-content/uploads/2023/12/MT-APEX-Accelerator-Logo-transparent-e1724199194887.png
END:VEVENT
END:VCALENDAR