BEGIN:VCALENDAR
VERSION:2.0
PRODID:-//Grow Great Falls Montana - ECPv6.15.20//NONSGML v1.0//EN
CALSCALE:GREGORIAN
METHOD:PUBLISH
X-WR-CALNAME:Grow Great Falls Montana
X-ORIGINAL-URL:https://growgreatfallsmontana.org
X-WR-CALDESC:Events for Grow Great Falls Montana
REFRESH-INTERVAL;VALUE=DURATION:PT1H
X-Robots-Tag:noindex
X-PUBLISHED-TTL:PT1H
BEGIN:VTIMEZONE
TZID:UTC
BEGIN:STANDARD
TZOFFSETFROM:+0000
TZOFFSETTO:+0000
TZNAME:UTC
DTSTART:20240101T000000
END:STANDARD
END:VTIMEZONE
BEGIN:VEVENT
DTSTART;TZID=UTC:20251119T113000
DTEND;TZID=UTC:20251119T130000
DTSTAMP:20260420T173543
CREATED:20250523T063102Z
LAST-MODIFIED:20260319T084403Z
UID:5868-1763551800-1763557200@growgreatfallsmontana.org
SUMMARY:NOVEMBER-What Happens After SAM!
DESCRIPTION:Unlock New Business Opportunities! \nPlease join the Montana APEX Accelerator for a strategic VIRTUAL training on how YOU can sell your company’s products and services to federal and state agencies. \n  \nWho Should Attend? \nAny business in any industry that is interested in developing a focused market strategy for the government segment. It is not a requirement to already be registered in SAM or eMACS to attend the training. However\, we will not be going over the registration process in this training. Register here: https://mtapex.ecenterdirect.com/events/41645 \n\nWednesday\, November 19\, 2025\n11:30 AM (MDT)\nVirtual\nFree\n\n 
URL:https://growgreatfallsmontana.org/event/november-what-happens-after-sam/
LOCATION:Montana
CATEGORIES:APEX Accelerator Event,Trainings
ATTACH;FMTTYPE=image/png:https://growgreatfallsmontana.org/wp-content/uploads/2025/05/2025-NOVEMBER-Flyer-for-What-Happens-After-SAM.png
END:VEVENT
END:VCALENDAR