BEGIN:VCALENDAR
VERSION:2.0
PRODID:-//Grow Great Falls Montana - ECPv6.15.20//NONSGML v1.0//EN
CALSCALE:GREGORIAN
METHOD:PUBLISH
X-ORIGINAL-URL:https://growgreatfallsmontana.org
X-WR-CALDESC:Events for Grow Great Falls Montana
REFRESH-INTERVAL;VALUE=DURATION:PT1H
X-Robots-Tag:noindex
X-PUBLISHED-TTL:PT1H
BEGIN:VTIMEZONE
TZID:America/Denver
BEGIN:DAYLIGHT
TZOFFSETFROM:-0700
TZOFFSETTO:-0600
TZNAME:MDT
DTSTART:20230312T090000
END:DAYLIGHT
BEGIN:STANDARD
TZOFFSETFROM:-0600
TZOFFSETTO:-0700
TZNAME:MST
DTSTART:20231105T080000
END:STANDARD
BEGIN:DAYLIGHT
TZOFFSETFROM:-0700
TZOFFSETTO:-0600
TZNAME:MDT
DTSTART:20240310T090000
END:DAYLIGHT
BEGIN:STANDARD
TZOFFSETFROM:-0600
TZOFFSETTO:-0700
TZNAME:MST
DTSTART:20241103T080000
END:STANDARD
BEGIN:DAYLIGHT
TZOFFSETFROM:-0700
TZOFFSETTO:-0600
TZNAME:MDT
DTSTART:20250309T090000
END:DAYLIGHT
BEGIN:STANDARD
TZOFFSETFROM:-0600
TZOFFSETTO:-0700
TZNAME:MST
DTSTART:20251102T080000
END:STANDARD
END:VTIMEZONE
BEGIN:VEVENT
DTSTART;TZID=America/Denver:20241120T170000
DTEND;TZID=America/Denver:20241120T180000
DTSTAMP:20260421T220301
CREATED:20241022T214649Z
LAST-MODIFIED:20260319T084405Z
UID:4469-1732122000-1732125600@growgreatfallsmontana.org
SUMMARY:1st Annual Entrepreneur Celebration
DESCRIPTION:GFDAEntrepreneurCelebrationInvite \nHave you started a business in the Great Falls region? We want to celebrate YOU! \nStarting a business is not easy. Join us for GFDA’s first annual Entrepreneur Celebration at the Newberry on November 20th from 5-6PM and be recognized for your awesome achievement. \nThis first celebration is for anyone who has ever started a business in our 13-county trade area: Blaine\, Cascade\, Chouteau\, Fergus\, Glacier\, Hill\, Judith Basin\, Lewis & Clark\, Liberty\, Meagher\, Pondera\, Teton or Toole County. \nPlease REGISTER HERE if you can join us. \nRECOGNIZE an Entrepreneur in North Central Montana HERE! \n 
URL:https://growgreatfallsmontana.org/event/entrepreneur-celebration/
CATEGORIES:Special Event
ATTACH;FMTTYPE=image/jpeg:https://growgreatfallsmontana.org/wp-content/uploads/2024/10/GFDAEntrepreneurCelebrationInvite-e1730931724503.jpg
END:VEVENT
END:VCALENDAR