BEGIN:VCALENDAR
VERSION:2.0
PRODID:-//Grow Great Falls Montana - ECPv6.15.20//NONSGML v1.0//EN
CALSCALE:GREGORIAN
METHOD:PUBLISH
X-WR-CALNAME:Grow Great Falls Montana
X-ORIGINAL-URL:https://growgreatfallsmontana.org
X-WR-CALDESC:Events for Grow Great Falls Montana
REFRESH-INTERVAL;VALUE=DURATION:PT1H
X-Robots-Tag:noindex
X-PUBLISHED-TTL:PT1H
BEGIN:VTIMEZONE
TZID:America/Denver
BEGIN:DAYLIGHT
TZOFFSETFROM:-0700
TZOFFSETTO:-0600
TZNAME:MDT
DTSTART:20250309T090000
END:DAYLIGHT
BEGIN:STANDARD
TZOFFSETFROM:-0600
TZOFFSETTO:-0700
TZNAME:MST
DTSTART:20251102T080000
END:STANDARD
BEGIN:DAYLIGHT
TZOFFSETFROM:-0700
TZOFFSETTO:-0600
TZNAME:MDT
DTSTART:20260308T090000
END:DAYLIGHT
BEGIN:STANDARD
TZOFFSETFROM:-0600
TZOFFSETTO:-0700
TZNAME:MST
DTSTART:20261101T080000
END:STANDARD
BEGIN:DAYLIGHT
TZOFFSETFROM:-0700
TZOFFSETTO:-0600
TZNAME:MDT
DTSTART:20270314T090000
END:DAYLIGHT
BEGIN:STANDARD
TZOFFSETFROM:-0600
TZOFFSETTO:-0700
TZNAME:MST
DTSTART:20271107T080000
END:STANDARD
END:VTIMEZONE
BEGIN:VTIMEZONE
TZID:UTC
BEGIN:STANDARD
TZOFFSETFROM:+0000
TZOFFSETTO:+0000
TZNAME:UTC
DTSTART:20250101T000000
END:STANDARD
END:VTIMEZONE
BEGIN:VEVENT
DTSTART;TZID=America/Denver:20260205T080000
DTEND;TZID=America/Denver:20260205T093000
DTSTAMP:20260423T043814
CREATED:20250517T041452Z
LAST-MODIFIED:20260319T084403Z
UID:5858-1770278400-1770283800@growgreatfallsmontana.org
SUMMARY:GFDA Board & Council Meeting
DESCRIPTION:Click HERE for Minutes \n  \nGreat Falls College: Heritage Hall\n2100 16th Ave South; Great Falls\, MT 59405 \nOR \nJoin Zoom Meeting: \nhttps://zoom.us/j/94014829623?pwd=aXJFRVlZOXJld2N1dU9uN1gxL1JpQT09 \nMeeting ID: 940 1482 9623\nPasscode: 216683 \nOne tap mobile\n+12532158782\,\,94014829623#\,\,\,\,*216683# US (Tacoma)\n+13462487799\,\,94014829623#\,\,\,\,*216683# US (Houston) \nDial by your location\n+1 253 215 8782 US (Tacoma)\n+1 346 248 7799 US (Houston)\n+1 669 900 9128 US (San Jose)\n+1 301 715 8592 US (Washington DC)\n+1 312 626 6799 US (Chicago)\n+1 646 558 8656 US (New York) \nFind your local number: https://zoom.us/u/adzGlXYsfN
URL:https://growgreatfallsmontana.org/event/gfda-board-council-meeting-22/
CATEGORIES:GFDA Meetings
END:VEVENT
BEGIN:VEVENT
DTSTART;VALUE=DATE:20260216
DTEND;VALUE=DATE:20260217
DTSTAMP:20260423T043814
CREATED:20250517T042433Z
LAST-MODIFIED:20260319T084403Z
UID:5862-1771200000-1771286399@growgreatfallsmontana.org
SUMMARY:OFFICE CLOSED: President’s Day
DESCRIPTION:
URL:https://growgreatfallsmontana.org/event/office-closed-presidents-day-3/
CATEGORIES:Other Event
END:VEVENT
BEGIN:VEVENT
DTSTART;TZID=America/Denver:20260218T080000
DTEND;TZID=America/Denver:20260218T093000
DTSTAMP:20260423T043814
CREATED:20250517T032636Z
LAST-MODIFIED:20260319T084403Z
UID:5847-1771401600-1771407000@growgreatfallsmontana.org
SUMMARY:GFDA Executive Committee Meeting
DESCRIPTION:Click HERE for Minutes\n\n \n\nAE2S CONFERENCE ROOM\nWest Bank Landing\, Portage Bldg (behind The Peak)\n405 3rd St NW\, Suite 205; Great Falls\, MT 59404\n\nOR\n\nJoin Zoom Meeting:\nhttps://zoom.us/j/97551413941?pwd=V2ZLeHUyRUx6TU5aNExHVSs5RWx3Zz09\n\nMeeting ID: 975 5141 3941\nPasscode: 986063\n\nOne tap mobile\n+16699009128\,\,97551413941#\,\,\,\,*986063# US (San Jose)\n+12532158782\,\,97551413941#\,\,\,\,*986063# US (Tacoma)\n\nDial by your location\n+1 669 900 9128 US (San Jose)\n+1 253 215 8782 US (Tacoma)\n+1 346 248 7799 US (Houston)\n+1 646 558 8656 US (New York)\n+1 301 715 8592 US (Washington DC)\n+1 312 626 6799 US (Chicago)\n\nFind your local number: https://zoom.us/u/acHlCWKIWF
URL:https://growgreatfallsmontana.org/event/gfda-executive-committee-meeting-24/
CATEGORIES:GFDA Meetings
END:VEVENT
BEGIN:VEVENT
DTSTART;TZID=America/Denver:20260219T083000
DTEND;TZID=America/Denver:20260219T093000
DTSTAMP:20260423T043814
CREATED:20251209T064521Z
LAST-MODIFIED:20260319T084403Z
UID:5871-1771489800-1771493400@growgreatfallsmontana.org
SUMMARY:Boost Your Business: Pricing Strategy (Is Your Price Right)?
DESCRIPTION:Level up your business skills and stay ahead of the curve with Boost Your Business\, a FREE in-person training series designed for entrepreneurs\, small business owners\, and professionals across all industries. Each month\, we dive into a new topic—marketing\, leadership\, finance\, operations\, technology\, and more—to give you practical tools you can use right away.\n\n \n\nFebruary: Pricing Strategy (Is Your Price Right)?\n\nDo you know if you are charging the right amount for your products or services? We will cover breakeven analysis\, considerations when setting prices\, market fluctuations\, adjustments for seasonal considerations and understanding cost basis.\n\nPlease bring “real” examples of your products/services if you would like on-the-spot counseling for your pricing strategy. We will do our best to accommodate as many examples as possible.\n\n \n\nCLICK HERE to Register!\n\n \n\nBrought to you by Great Falls Development Alliance and the Great Falls Area Chamber of Commerce\n\nClick Here for all 2026 Boost Your Business Workshops.\n\n\n\n 
URL:https://growgreatfallsmontana.org/event/boost-your-business-pricing-strategy-is-your-price-right/
CATEGORIES:Trainings
END:VEVENT
BEGIN:VEVENT
DTSTART;TZID=UTC:20260223T170000
DTEND;TZID=UTC:20260223T183000
DTSTAMP:20260423T043814
CREATED:20260224T002942Z
LAST-MODIFIED:20260224T042501Z
UID:7030-1771866000-1771871400@growgreatfallsmontana.org
SUMMARY:Data Center Task Force
DESCRIPTION:Join us for a community discussion regarding data center opportunities in the Heritage Hall at Great Falls College MSU.
URL:https://growgreatfallsmontana.org/event/data-center-task-force/
LOCATION:Great Falls College: Heritage Hall\, 2100 16th Ave South\, Great Falls\, MT\, 59405\, United States
CATEGORIES:GFDA Meetings
ATTACH;FMTTYPE=image/jpeg:https://growgreatfallsmontana.org/wp-content/uploads/2026/02/Task-Force-Meeting-Header-2-11-26.jpg
END:VEVENT
BEGIN:VEVENT
DTSTART;TZID=UTC:20260227T100000
DTEND;TZID=UTC:20260227T113000
DTSTAMP:20260423T043814
CREATED:20260224T045014Z
LAST-MODIFIED:20260226T005435Z
UID:7068-1772186400-1772191800@growgreatfallsmontana.org
SUMMARY:Defense Coalition Planning Meeting
DESCRIPTION:Central Montana Defense Coalition \n\n\n\nClick Here for AgendaLocation \n\n\n\nAE2S Conference Room in GFDA Building \n\n\n\nThe Portage Building in West Bank Landing \n\n\n\n2nd Floor \n\n\n\nOR \n\n\n\nZoom Meeting \n\n\n\nhttps://us06web.zoom.us/j/81679934264?pwd=RGff6T3QPbRw7FfJbnc5tMaeWJLFGl.1 \n\n\n\nMeeting ID: 816 7993 4264 \n\n\n\nPasscode: 025077 \n\n\n\n— \n\n\n\nOne tap mobile \n\n\n\n+17193594580\,\,81679934264#\,\,\,\,*025077# US \n\n\n\n+17207072699\,\,81679934264#\,\,\,\,*025077# US (Denver) \n\n\n\nJoin instructions \n\n\n\nhttps://us06web.zoom.us/meetings/81679934264/invitations?signature=kX1I215pfaqTLIM2uz3ysOkVfZcCiZTAVmLL01R3mdU
URL:https://growgreatfallsmontana.org/event/defense-coalition-planning-meeting/
LOCATION:AE2S Conference Room\, 405 3rd St NW\, Suite 205\, Great Falls\, MT\, 59404\, United States
CATEGORIES:GFDA Meetings
END:VEVENT
END:VCALENDAR