BEGIN:VCALENDAR
VERSION:2.0
PRODID:-//Grow Great Falls Montana - ECPv6.15.20//NONSGML v1.0//EN
CALSCALE:GREGORIAN
METHOD:PUBLISH
X-ORIGINAL-URL:https://growgreatfallsmontana.org
X-WR-CALDESC:Events for Grow Great Falls Montana
REFRESH-INTERVAL;VALUE=DURATION:PT1H
X-Robots-Tag:noindex
X-PUBLISHED-TTL:PT1H
BEGIN:VTIMEZONE
TZID:UTC
BEGIN:STANDARD
TZOFFSETFROM:+0000
TZOFFSETTO:+0000
TZNAME:UTC
DTSTART:20250101T000000
END:STANDARD
END:VTIMEZONE
BEGIN:VEVENT
DTSTART;TZID=UTC:20260423T170000
DTEND;TZID=UTC:20260423T183000
DTSTAMP:20260423T063001
CREATED:20260228T064410Z
LAST-MODIFIED:20260327T204609Z
UID:7339-1776963600-1776969000@growgreatfallsmontana.org
SUMMARY:River Activation Task Force Meeting
DESCRIPTION:Join us for the launch of the River Activation Task Force on Thursday\, April 23\, from 5:00–6:30 PM at the Lewis & Clark Interpretive Center. This kick-off meeting is open to the public and all are welcome to attend. Together\, we’ll begin brainstorming ways to activate the Missouri and Sun Rivers through private investment\, commercial development\, and river-oriented businesses that grow tourism\, recreation\, and entertainment opportunities in Great Falls.Admission is free\, but please register if you plan to attend. Light refreshments will be provided. \n\n\n\n\n\n For more information\, contact:
URL:https://growgreatfallsmontana.org/event/river-activation-task-force-meeting/
LOCATION:Lewis & Clark Interpretive Center\, 4201 Giant Springs Road\, Great Falls\, Montana\, 59405\, United States
CATEGORIES:GFDA Meetings
ORGANIZER;CN="Shauni Seccombe":MAILTO:Shauni@GrowGreatFalls.org
END:VEVENT
END:VCALENDAR